BEGIN:VCALENDAR
VERSION:2.0
PRODID:-//Tukios.com/
BEGIN:VEVENT
UID:8e892eba-a4ba-4d6e-8a9b-898d05ef8b60@www.bramfuneralhome.com
DTSTAMP:20260424T172145Z
DTSTART:20260427T160000Z
DTEND:20260427T170000Z
SUMMARY:Funeral Service
DESCRIPTION:
URL:https://www.bramfuneralhome.com/obituaries/helen-stiens
LOCATION: 333 South Davis Street  Maryville MO 64468
GEO:40.3427386;-94.8655793
END:VEVENT
END:VCALENDAR