BEGIN:VCALENDAR
VERSION:2.0
PRODID:-//Tukios.com/
BEGIN:VEVENT
UID:e3bb3f7b-086f-4b2c-91a1-4ee77ecbf8d8@www.bramfuneralhome.com
DTSTAMP:20260424T172027Z
DTSTART:20260426T223000Z
DTEND:20260427T000000Z
SUMMARY:Visitation
DESCRIPTION:
URL:https://www.bramfuneralhome.com/obituaries/helen-stiens
LOCATION: 333 South Davis Street  Maryville MO 64468
GEO:40.3427386;-94.8655793
END:VEVENT
END:VCALENDAR