BEGIN:VCALENDAR
VERSION:2.0
PRODID:-//Tukios.com/
BEGIN:VEVENT
UID:72aa197e-110c-43b5-9f61-81181b2c9304@www.bramfuneralhome.com
DTSTAMP:20260424T172215Z
DTSTART:20260426T220000Z
DTEND:20260426T223000Z
SUMMARY:Rosary
DESCRIPTION:
URL:https://www.bramfuneralhome.com/obituaries/helen-stiens
LOCATION: 333 South Davis Street  Maryville MO 64468
GEO:40.3427386;-94.8655793
END:VEVENT
END:VCALENDAR